BEGIN:VCALENDAR
VERSION:2.0
PRODID:-//eventon.com NONSGML v1.0//EN
CALSCALE:GREGORIAN
METHOD:PUBLISH
BEGIN:VEVENT
UID:69e8ec0c2aa57
DTSTAMP:20260422T154100Z
DTSTART:20241127T000000Z
DTEND:20241201T000000Z
LOCATION:
SUMMARY:Wonder Women Festival
DESCRIPTION:India's leading women only wellness & tantra festival40+ Sessio
 ns\,  Global Gathering Safe Space\,  Body Positive\,  Unique Experiences\, 
  Sacred Feminine\,  Transformation\nhttps://lookgoa.com/events/wonder-women
 -festival/
URL:https://lookgoa.com/events/wonder-women-festival/
END:VEVENT
END:VCALENDAR