BEGIN:VCALENDAR
VERSION:2.0
PRODID:-//eventon.com NONSGML v1.0//EN
CALSCALE:GREGORIAN
METHOD:PUBLISH
BEGIN:VEVENT
UID:69e89e93d20b5
DTSTAMP:20260422T101027Z
DTSTART:20251009T085600Z
DTEND:20251012T085600Z
LOCATION:
SUMMARY:International Purple Fest Goa 2025
DESCRIPTION:When people think of Goa\,  they often picture golden beaches\,
   vibrant nightlife\,  and lively sunset parties. But at the heart of Panaj
 i lies a cultural treasure thatâ€™s redefining what Goa truly stands for â€
 ” Purple Fest 2025. Happening from October 9â€“12\,  2025\,  this isnâ€™t a
 nother beach rave or commercial spectacle.[..]\nhttps://lookgoa.com/events/
 international-purple-fest-goa-2025/
URL:https://lookgoa.com/events/international-purple-fest-goa-2025/
END:VEVENT
END:VCALENDAR